BEGIN:VCALENDAR
VERSION:2.0
PRODID:-//Vinilo - ECPv6.15.3//NONSGML v1.0//EN
CALSCALE:GREGORIAN
METHOD:PUBLISH
X-WR-CALNAME:Vinilo
X-ORIGINAL-URL:https://vinilo.com.au
X-WR-CALDESC:Events for Vinilo
REFRESH-INTERVAL;VALUE=DURATION:PT1H
X-Robots-Tag:noindex
X-PUBLISHED-TTL:PT1H
BEGIN:VTIMEZONE
TZID:UTC
BEGIN:STANDARD
TZOFFSETFROM:+0000
TZOFFSETTO:+0000
TZNAME:UTC
DTSTART:20100101T000000
END:STANDARD
END:VTIMEZONE
BEGIN:VEVENT
DTSTART;VALUE=DATE:20100129
DTEND;VALUE=DATE:20301230
DTSTAMP:20260423T220828
CREATED:20240904T140028Z
LAST-MODIFIED:20240905T001430Z
UID:10214-1264723200-1924819199@vinilo.com.au
SUMMARY:DJ Daz 2021 mix
DESCRIPTION:https://vinilo.com.au/wp-content/uploads/2019/06/DJ-DAZ-August-2021.mp3
URL:https://vinilo.com.au/event/stockholm-sweden-2/
LOCATION:DJ Daz studio\, PO Box 33\, Newport Beach\, NSW\, 2106\, Australia
ORGANIZER;CN="DJ Daz & the JBL":MAILTO:daryl@vinilo.com.au
END:VEVENT
BEGIN:VEVENT
DTSTART;VALUE=DATE:20100201
DTEND;VALUE=DATE:20301004
DTSTAMP:20260423T220828
CREATED:20100131T140028Z
LAST-MODIFIED:20240904T233437Z
UID:10215-1264982400-1917302399@vinilo.com.au
SUMMARY:80's mashup DJ Daz mix - 103bpm
DESCRIPTION:https://vinilo.com.au/wp-content/uploads/2019/06/103bpm-DazMix_2010-80s-90s-V2.mp3
URL:https://vinilo.com.au/event/munchen-germany-4/
LOCATION:DJ Daz studio\, PO Box 33\, Newport Beach\, NSW\, 2106\, Australia
END:VEVENT
BEGIN:VEVENT
DTSTART;VALUE=DATE:20100606
DTEND;VALUE=DATE:20300607
DTSTAMP:20260423T220828
CREATED:20190704T134838Z
LAST-MODIFIED:20240904T232017Z
UID:10216-1275782400-1907020799@vinilo.com.au
SUMMARY:DJ Daz January 2011 mix
DESCRIPTION:https://vinilo.com.au/wp-content/uploads/2019/06/DJ-Daz-January-2011-80s-90s-mashup.mp3
URL:https://vinilo.com.au/event/munchen-germany-2/
LOCATION:DJ Daz studio\, PO Box 33\, Newport Beach\, NSW\, 2106\, Australia
ORGANIZER;CN="DJ Daz & the JBL":MAILTO:daryl@vinilo.com.au
END:VEVENT
BEGIN:VEVENT
DTSTART;VALUE=DATE:20101104
DTEND;VALUE=DATE:20301105
DTSTAMP:20260423T220828
CREATED:20190419T121850Z
LAST-MODIFIED:20240904T232440Z
UID:8975-1288828800-1920067199@vinilo.com.au
SUMMARY:DJ Daz December 2016 mix
DESCRIPTION:https://vinilo.com.au/wp-content/uploads/2019/06/DJ-Daz-mix-December-2016.mp3
URL:https://vinilo.com.au/event/munchen-germany/
LOCATION:DJ Daz studio\, PO Box 33\, Newport Beach\, NSW\, 2106\, Australia
ORGANIZER;CN="DJ Daz & the JBL":MAILTO:daryl@vinilo.com.au
END:VEVENT
BEGIN:VEVENT
DTSTART;VALUE=DATE:20101209
DTEND;VALUE=DATE:20301210
DTSTAMP:20260423T220828
CREATED:20190419T121850Z
LAST-MODIFIED:20240904T232237Z
UID:8974-1291852800-1923091199@vinilo.com.au
SUMMARY:DJ Daz July 2011 mix
DESCRIPTION:https://vinilo.com.au/wp-content/uploads/2019/06/DJ-Daz-Mashup-80s90s-Mix-July-2011.mp3
URL:https://vinilo.com.au/event/madrid-spain/
LOCATION:DJ Daz studio\, PO Box 33\, Newport Beach\, NSW\, 2106\, Australia
ORGANIZER;CN="DJ Daz & the JBL":MAILTO:daryl@vinilo.com.au
END:VEVENT
END:VCALENDAR